BEGIN:VCALENDAR
VERSION:2.0
PRODID:-//hacksw/handcal//NONSGML v1.0//EN
BEGIN:VEVENT
UID:webmaster@cooper.edu
DTSTAMP; TZID=America/New_York:20200224T183000
ORGANIZER;CN=The Cooper Union:MAILTO:webmaster@cooper.edu
DTSTART; TZID=America/New_York:20200224T183000
DTEND; TZID=America/New_York:20200313T190000
SUMMARY:Exhibition | One to One | 1:1
DESCRIPTION:Ja Architecture Studio exhibition draws a parallel between architectural practice and its pedagogy.&nbsp;
END:VEVENT
END:VCALENDAR
