BEGIN:VCALENDAR
VERSION:2.0
PRODID:-//hacksw/handcal//NONSGML v1.0//EN
BEGIN:VEVENT
UID:webmaster@cooper.edu
DTSTAMP; TZID=America/New_York:20200227T183000
ORGANIZER;CN=The Cooper Union:MAILTO:webmaster@cooper.edu
DTSTART; TZID=America/New_York:20200227T183000
DTEND; TZID=America/New_York:20200227T203000
SUMMARY:Visiting Lecture | Faktur: Documents and Architecture, Pep Aviles and Lindsey Wikstrom
DESCRIPTION:Pep Avíles and Linda Wikstrom will present the&nbsp;journal&nbsp;Faktur.&nbsp;
END:VEVENT
END:VCALENDAR
