BEGIN:VCALENDAR
VERSION:2.0
PRODID:-//hacksw/handcal//NONSGML v1.0//EN
BEGIN:VEVENT
UID:webmaster@cooper.edu
DTSTAMP; TZID=America/New_York:20200213T183000
ORGANIZER;CN=The Cooper Union:MAILTO:webmaster@cooper.edu
DTSTART; TZID=America/New_York:20200213T183000
DTEND; TZID=America/New_York:20200213T203000
SUMMARY:Visiting Lecture and Book Launch | Ines Weizman: Dust & Data. Traces of the Bauhaus across 100 Years
DESCRIPTION:Ines Weizman will give a talk to launch her new book on the history of the Bauhaus.&nbsp;
END:VEVENT
END:VCALENDAR
