BEGIN:VCALENDAR
VERSION:2.0
PRODID:-//hacksw/handcal//NONSGML v1.0//EN
BEGIN:VEVENT
UID:webmaster@cooper.edu
DTSTAMP; TZID=America/New_York:20201019T183000
ORGANIZER;CN=The Cooper Union:MAILTO:webmaster@cooper.edu
DTSTART; TZID=America/New_York:20201019T183000
DTEND; TZID=America/New_York:20201019T203000
SUMMARY:Bauhaus Night
DESCRIPTION:Get up close and personal with the big, bad Bauhaus during an evening of short talks
END:VEVENT
END:VCALENDAR
