BEGIN:VCALENDAR
VERSION:2.0
PRODID:-//hacksw/handcal//NONSGML v1.0//EN
BEGIN:VEVENT
UID:webmaster@cooper.edu
DTSTAMP; TZID=America/New_York:20200123T183000
ORGANIZER;CN=The Cooper Union:MAILTO:webmaster@cooper.edu
DTSTART; TZID=America/New_York:20200123T183000
DTEND; TZID=America/New_York:20200313T190000
SUMMARY:Nivola in New York | Figure in Field
DESCRIPTION:An exhibition of the work of artist and sculptor Costantino Nivola
END:VEVENT
END:VCALENDAR
