BEGIN:VCALENDAR
VERSION:2.0
PRODID:-//hacksw/handcal//NONSGML v1.0//EN
BEGIN:VEVENT
UID:webmaster@cooper.edu
DTSTAMP; TZID=America/New_York:20191119T120000
ORGANIZER;CN=The Cooper Union:MAILTO:webmaster@cooper.edu
DTSTART; TZID=America/New_York:20191119T120000
DTEND; TZID=America/New_York:20191208T115900
SUMMARY:TAILORING FORM: A Brief History Of The Template
DESCRIPTION:An exploration of the template as a tool that translates concept into physical form.
END:VEVENT
END:VCALENDAR
