BEGIN:VCALENDAR
VERSION:2.0
PRODID:-//hacksw/handcal//NONSGML v1.0//EN
BEGIN:VEVENT
UID:webmaster@cooper.edu
DTSTAMP; TZID=America/New_York:20191029T183000
ORGANIZER;CN=The Cooper Union:MAILTO:webmaster@cooper.edu
DTSTART; TZID=America/New_York:20191029T183000
DTEND; TZID=America/New_York:20191114T180000
SUMMARY:XIV Spanish Biennial of Architecture and Urbanism VII Diploma Project Exhibition
DESCRIPTION:A presentation of award-winning graduating student projects from the 2016-17 academic year
END:VEVENT
END:VCALENDAR
