BEGIN:VCALENDAR
VERSION:2.0
PRODID:-//hacksw/handcal//NONSGML v1.0//EN
BEGIN:VEVENT
UID:webmaster@cooper.edu
DTSTAMP; TZID=America/New_York:20191016T180000
ORGANIZER;CN=The Cooper Union:MAILTO:webmaster@cooper.edu
DTSTART; TZID=America/New_York:20191016T180000
DTEND; TZID=America/New_York:20191016T200000
SUMMARY:Bodies in Movement: Reception and Gallery Remarks
DESCRIPTION:A celebration of the work of the Structures I Spring 2019 class.
END:VEVENT
END:VCALENDAR
