BEGIN:VCALENDAR
VERSION:2.0
PRODID:-//hacksw/handcal//NONSGML v1.0//EN
BEGIN:VEVENT
UID:webmaster@cooper.edu
DTSTAMP; TZID=America/New_York:20191116T110000
ORGANIZER;CN=The Cooper Union:MAILTO:webmaster@cooper.edu
DTSTART; TZID=America/New_York:20191116T110000
DTEND; TZID=America/New_York:20191116T180000
SUMMARY:Jacques Ranciere in Conversation with Peggy Deamer, Joan Ockman, Anthony Vidler, and Michael Young: How Does Architecture Distribute the Sensible? 
DESCRIPTION:
END:VEVENT
END:VCALENDAR
