BEGIN:VCALENDAR
VERSION:2.0
PRODID:-//hacksw/handcal//NONSGML v1.0//EN
BEGIN:VEVENT
UID:webmaster@cooper.edu
DTSTAMP; TZID=America/New_York:20191010T183000
ORGANIZER;CN=The Cooper Union:MAILTO:webmaster@cooper.edu
DTSTART; TZID=America/New_York:20191010T183000
DTEND; TZID=America/New_York:20191010T203000
SUMMARY:Visiting Lecture | Florian Idenburg: Open Structure, Open Form
DESCRIPTION:Florian Idenburg will give a lecture on his work in room 315F.&nbsp;
END:VEVENT
END:VCALENDAR
