BEGIN:VCALENDAR
VERSION:2.0
PRODID:-//hacksw/handcal//NONSGML v1.0//EN
BEGIN:VEVENT
UID:webmaster@cooper.edu
DTSTAMP; TZID=America/New_York:20191016T183000
ORGANIZER;CN=The Cooper Union:MAILTO:webmaster@cooper.edu
DTSTART; TZID=America/New_York:20191016T183000
DTEND; TZID=America/New_York:20191016T203000
SUMMARY:Type@Cooper Lecture Series: Roger Excoffon
DESCRIPTION:A free, public lecture on the work of the French type designer, graphic designer, painter, and philosopher
END:VEVENT
END:VCALENDAR
