BEGIN:VCALENDAR
VERSION:2.0
PRODID:-//hacksw/handcal//NONSGML v1.0//EN
BEGIN:VEVENT
UID:webmaster@cooper.edu
DTSTAMP; TZID=America/New_York:20190912T183000
ORGANIZER;CN=The Cooper Union:MAILTO:webmaster@cooper.edu
DTSTART; TZID=America/New_York:20190912T183000
DTEND; TZID=America/New_York:20190912T213000
SUMMARY:How to Build a House | Panel Discussion and Opening Reception
DESCRIPTION:Benjamin Dillenburger, Mania Aghaei Meibodi,  Jenny Sabin, and Skylar Tibbits in conversation with Fabio Gramazio and Matthias Kohler
END:VEVENT
END:VCALENDAR
