BEGIN:VCALENDAR
VERSION:2.0
PRODID:-//hacksw/handcal//NONSGML v1.0//EN
BEGIN:VEVENT
UID:webmaster@cooper.edu
DTSTAMP; TZID=America/New_York:20190910T173000
ORGANIZER;CN=The Cooper Union:MAILTO:webmaster@cooper.edu
DTSTART; TZID=America/New_York:20190910T173000
DTEND; TZID=America/New_York:20190927T190000
SUMMARY:Master of Architecture II Thesis Exhibition: What is Contemporary?
DESCRIPTION:This exhibition presents the work of the Spring 2019 Graduate Design Studio
END:VEVENT
END:VCALENDAR
