BEGIN:VCALENDAR
VERSION:2.0
PRODID:-//hacksw/handcal//NONSGML v1.0//EN
BEGIN:VEVENT
UID:webmaster@cooper.edu
DTSTAMP; TZID=America/New_York:20190912T183000
ORGANIZER;CN=The Cooper Union:MAILTO:webmaster@cooper.edu
DTSTART; TZID=America/New_York:20190912T183000
DTEND; TZID=America/New_York:20191013T190000
SUMMARY:How to Build a House: Architectural Research in the Digital Age 
DESCRIPTION:An exhibition highlighting the conception and making of the DFAB HOUSE
END:VEVENT
END:VCALENDAR
