BEGIN:VCALENDAR
VERSION:2.0
PRODID:-//hacksw/handcal//NONSGML v1.0//EN
BEGIN:VEVENT
UID:webmaster@cooper.edu
DTSTAMP; TZID=America/New_York:20191003T183000
ORGANIZER;CN=The Cooper Union:MAILTO:webmaster@cooper.edu
DTSTART; TZID=America/New_York:20191003T183000
DTEND; TZID=America/New_York:20191003T203000
SUMMARY:Architecture of Nature / Nature of Architecture Book Launch and Panel
DESCRIPTION:Distinguished panelists discuss subjects brought forth by Prof. Diana Agrest's new book.&nbsp;
END:VEVENT
END:VCALENDAR
