BEGIN:VCALENDAR
VERSION:2.0
PRODID:-//hacksw/handcal//NONSGML v1.0//EN
BEGIN:VEVENT
UID:webmaster@cooper.edu
DTSTAMP; TZID=America/New_York:20190409T120000
ORGANIZER;CN=The Cooper Union:MAILTO:webmaster@cooper.edu
DTSTART; TZID=America/New_York:20190409T120000
DTEND; TZID=America/New_York:20190409T130000
SUMMARY:GPS originator Richard Schwartz ME ‘57 Talks about his Work & the QEPrize
DESCRIPTION:Richard Schwartz ME'57 talks about his role in the development of Navstar GPS, the satellite-based navigation system
END:VEVENT
END:VCALENDAR
