BEGIN:VCALENDAR
VERSION:2.0
PRODID:-//hacksw/handcal//NONSGML v1.0//EN
BEGIN:VEVENT
UID:webmaster@cooper.edu
DTSTAMP; TZID=America/New_York:20190319T120000
ORGANIZER;CN=The Cooper Union:MAILTO:webmaster@cooper.edu
DTSTART; TZID=America/New_York:20190319T120000
DTEND; TZID=America/New_York:20190319T130000
SUMMARY:In Conversation: "Female Catalysts in Architecture"
DESCRIPTION:Elizabeth O'Donnell and Mersiha Veledar will discuss the role women have played in the discipline of architecture
END:VEVENT
END:VCALENDAR
