BEGIN:VCALENDAR
VERSION:2.0
PRODID:-//hacksw/handcal//NONSGML v1.0//EN
BEGIN:VEVENT
UID:webmaster@cooper.edu
DTSTAMP; TZID=America/New_York:20190408T190000
ORGANIZER;CN=The Cooper Union:MAILTO:webmaster@cooper.edu
DTSTART; TZID=America/New_York:20190408T190000
DTEND; TZID=America/New_York:20190408T210000
SUMMARY:Letters to the President
DESCRIPTION:A free public program reimagines an archival canon of letters through new music by multiple musical theater composers
END:VEVENT
END:VCALENDAR
