BEGIN:VCALENDAR
VERSION:2.0
PRODID:-//hacksw/handcal//NONSGML v1.0//EN
BEGIN:VEVENT
UID:webmaster@cooper.edu
DTSTAMP; TZID=America/New_York:20190401T183000
ORGANIZER;CN=The Cooper Union:MAILTO:webmaster@cooper.edu
DTSTART; TZID=America/New_York:20190401T183000
DTEND; TZID=America/New_York:20190401T203000
SUMMARY:Beyond Letters: How an African Typeface Project Became More Than Just Type Design
DESCRIPTION:Mark Jamra and&nbsp;Neil Patel&nbsp;tells the story of their&nbsp;typeface Kigelia
END:VEVENT
END:VCALENDAR
