BEGIN:VCALENDAR
VERSION:2.0
PRODID:-//hacksw/handcal//NONSGML v1.0//EN
BEGIN:VEVENT
UID:webmaster@cooper.edu
DTSTAMP; TZID=America/New_York:20181016T120000
ORGANIZER;CN=The Cooper Union:MAILTO:webmaster@cooper.edu
DTSTART; TZID=America/New_York:20181016T120000
DTEND; TZID=America/New_York:20181016T133000
SUMMARY:In Conversation | Diana Agrest and Michael Young: Representation and Architectural Discourse
DESCRIPTION:
END:VEVENT
END:VCALENDAR
