BEGIN:VCALENDAR
VERSION:2.0
PRODID:-//hacksw/handcal//NONSGML v1.0//EN
BEGIN:VEVENT
UID:webmaster@cooper.edu
DTSTAMP; TZID=America/New_York:20181002T120000
ORGANIZER;CN=The Cooper Union:MAILTO:webmaster@cooper.edu
DTSTART; TZID=America/New_York:20181002T120000
DTEND; TZID=America/New_York:20181002T140000
SUMMARY:In Conversation | James Lowder, Austin Smith and Benjamin Aranda: Fabrication
DESCRIPTION:School of Architecture Faculty will present their ideas on Fabrication.&nbsp;
END:VEVENT
END:VCALENDAR
