BEGIN:VCALENDAR
VERSION:2.0
PRODID:-//hacksw/handcal//NONSGML v1.0//EN
BEGIN:VEVENT
UID:webmaster@cooper.edu
DTSTAMP; TZID=America/New_York:20190122T120000
ORGANIZER;CN=The Cooper Union:MAILTO:webmaster@cooper.edu
DTSTART; TZID=America/New_York:20190122T120000
DTEND; TZID=America/New_York:20190223T120000
SUMMARY:Drawing Codes | Experimental Protocols of Architectural Representation, Volume II
DESCRIPTION:An exhibition that explores the impact of new technologies on code and drawing.
END:VEVENT
END:VCALENDAR
