BEGIN:VCALENDAR
VERSION:2.0
PRODID:-//hacksw/handcal//NONSGML v1.0//EN
BEGIN:VEVENT
UID:webmaster@cooper.edu
DTSTAMP; TZID=America/New_York:20181129T183000
ORGANIZER;CN=The Cooper Union:MAILTO:webmaster@cooper.edu
DTSTART; TZID=America/New_York:20181129T183000
DTEND; TZID=America/New_York:20181129T210000
SUMMARY:Cecil Balmond: Soft Logic, Serial Outcomes
DESCRIPTION:Cecil Balmond presents his recent research into growth and form through&nbsp;an exploration of abstract biology
END:VEVENT
END:VCALENDAR
