BEGIN:VCALENDAR
VERSION:2.0
PRODID:-//hacksw/handcal//NONSGML v1.0//EN
BEGIN:VEVENT
UID:webmaster@cooper.edu
DTSTAMP; TZID=America/New_York:20181201T093000
ORGANIZER;CN=The Cooper Union:MAILTO:webmaster@cooper.edu
DTSTART; TZID=America/New_York:20181201T093000
DTEND; TZID=America/New_York:20181201T170000
SUMMARY:Symposium | Thesis Now
DESCRIPTION:Symposium addressing the relevance, agency and pedagogy of thesis today.
END:VEVENT
END:VCALENDAR
