BEGIN:VCALENDAR
VERSION:2.0
PRODID:-//hacksw/handcal//NONSGML v1.0//EN
BEGIN:VEVENT
UID:webmaster@cooper.edu
DTSTAMP; TZID=America/New_York:20181113T120000
ORGANIZER;CN=The Cooper Union:MAILTO:webmaster@cooper.edu
DTSTART; TZID=America/New_York:20181113T120000
DTEND; TZID=America/New_York:20181113T140000
SUMMARY:In Conversation | Nader Tehrani and Anthony Vidler: History as Predicament
DESCRIPTION:Dean Tehrani and Prof. Vidler will discuss the issue of history in room 315F.&nbsp;
END:VEVENT
END:VCALENDAR
