BEGIN:VCALENDAR
VERSION:2.0
PRODID:-//hacksw/handcal//NONSGML v1.0//EN
BEGIN:VEVENT
UID:webmaster@cooper.edu
DTSTAMP; TZID=America/New_York:20181127T183000
ORGANIZER;CN=The Cooper Union:MAILTO:webmaster@cooper.edu
DTSTART; TZID=America/New_York:20181127T183000
DTEND; TZID=America/New_York:20181127T203000
SUMMARY:The William Cooper Mack Thesis Fellowship Lecture
DESCRIPTION:Fabio Gramazio and Meejin Yoon present "Digital Materiality in Architecture"
END:VEVENT
END:VCALENDAR
