BEGIN:VCALENDAR
VERSION:2.0
PRODID:-//hacksw/handcal//NONSGML v1.0//EN
BEGIN:VEVENT
UID:webmaster@cooper.edu
DTSTAMP; TZID=America/New_York:20181130T183000
ORGANIZER;CN=The Cooper Union:MAILTO:webmaster@cooper.edu
DTSTART; TZID=America/New_York:20181130T183000
DTEND; TZID=America/New_York:20181130T200000
SUMMARY:Visiting Lecture | Hashim Sarkis: Cyanometrics
DESCRIPTION:Hashim Sarkis will present on his work in the Frederick P. Rose Auditorium.&nbsp;
END:VEVENT
END:VCALENDAR
