BEGIN:VCALENDAR
VERSION:2.0
PRODID:-//hacksw/handcal//NONSGML v1.0//EN
BEGIN:VEVENT
UID:webmaster@cooper.edu
DTSTAMP; TZID=America/New_York:20181030T190000
ORGANIZER;CN=The Cooper Union:MAILTO:webmaster@cooper.edu
DTSTART; TZID=America/New_York:20181030T190000
DTEND; TZID=America/New_York:20181030T210000
SUMMARY:Current Work: New Materials, Hiroshi Sugimoto
DESCRIPTION:The Japanese artist discusses four projects as part of the Current Work series
END:VEVENT
END:VCALENDAR
