BEGIN:VCALENDAR
VERSION:2.0
PRODID:-//hacksw/handcal//NONSGML v1.0//EN
BEGIN:VEVENT
UID:webmaster@cooper.edu
DTSTAMP; TZID=America/New_York:20180816T130000
ORGANIZER;CN=The Cooper Union:MAILTO:webmaster@cooper.edu
DTSTART; TZID=America/New_York:20180816T130000
DTEND; TZID=America/New_York:20180816T140000
SUMMARY:Ben Gilmartin: 5 Obstructions
DESCRIPTION:Ben Gilmartin gives a lecture as part of the Master of Architecture II Summer Lecture Series
END:VEVENT
END:VCALENDAR
