BEGIN:VCALENDAR
VERSION:2.0
PRODID:-//hacksw/handcal//NONSGML v1.0//EN
BEGIN:VEVENT
UID:webmaster@cooper.edu
DTSTAMP; TZID=America/New_York:20181019T190000
ORGANIZER;CN=The Cooper Union:MAILTO:webmaster@cooper.edu
DTSTART; TZID=America/New_York:20181019T190000
DTEND; TZID=America/New_York:20181019T200000
SUMMARY:Making Art and Music
DESCRIPTION:Metallica’s Lars Ulrich talks with photographers HERRING &amp; HERRING a.k.a Dimitri Scheblanov A'05, and Jesper Carlsen about their collaborations
END:VEVENT
END:VCALENDAR
