BEGIN:VCALENDAR
VERSION:2.0
PRODID:-//hacksw/handcal//NONSGML v1.0//EN
BEGIN:VEVENT
UID:webmaster@cooper.edu
DTSTAMP; TZID=America/New_York:20180606T190000
ORGANIZER;CN=The Cooper Union:MAILTO:webmaster@cooper.edu
DTSTART; TZID=America/New_York:20180606T190000
DTEND; TZID=America/New_York:20180606T220000
SUMMARY:The Battle for Paradise: Resisting Disaster Capitalism in Puerto Rico
DESCRIPTION:Join us for a free, public conversation about how a radical, resilient vision for Puerto Rico's post-Maria recovery struggles against shock politics and disaster capitalism
END:VEVENT
END:VCALENDAR
