BEGIN:VCALENDAR
VERSION:2.0
PRODID:-//hacksw/handcal//NONSGML v1.0//EN
BEGIN:VEVENT
UID:webmaster@cooper.edu
DTSTAMP; TZID=America/New_York:20171212T190000
ORGANIZER;CN=The Cooper Union:MAILTO:webmaster@cooper.edu
DTSTART; TZID=America/New_York:20171212T190000
DTEND; TZID=America/New_York:20171212T203000
SUMMARY: Intra-Disciplinary Seminar Public Lecture: Regina José Galindo
DESCRIPTION:The artist&nbsp;presents a lecture entitled "Body of Work" that is&nbsp;free and open to the public
END:VEVENT
END:VCALENDAR
