BEGIN:VCALENDAR
VERSION:2.0
PRODID:-//hacksw/handcal//NONSGML v1.0//EN
BEGIN:VEVENT
UID:webmaster@cooper.edu
DTSTAMP; TZID=America/New_York:20171129T140000
ORGANIZER;CN=The Cooper Union:MAILTO:webmaster@cooper.edu
DTSTART; TZID=America/New_York:20171129T140000
DTEND; TZID=America/New_York:20171129T180000
SUMMARY:Thesis Rising 
DESCRIPTION:An exhibition of works in progress inviting faculty and students for an informal and open forum.&nbsp;
END:VEVENT
END:VCALENDAR
BEGIN:VCALENDAR
VERSION:2.0
PRODID:-//hacksw/handcal//NONSGML v1.0//EN
BEGIN:VEVENT
UID:webmaster@cooper.edu
DTSTAMP; TZID=America/New_York:20171130T140000
ORGANIZER;CN=The Cooper Union:MAILTO:webmaster@cooper.edu
DTSTART; TZID=America/New_York:20171130T140000
DTEND; TZID=America/New_York:20171130T180000
SUMMARY:Thesis Rising 
DESCRIPTION:An exhibition of works in progress inviting faculty and students for an informal and open forum.&nbsp;
END:VEVENT
END:VCALENDAR
