BEGIN:VCALENDAR
VERSION:2.0
PRODID:-//hacksw/handcal//NONSGML v1.0//EN
BEGIN:VEVENT
UID:webmaster@cooper.edu
DTSTAMP; TZID=America/New_York:20171213T140000
ORGANIZER;CN=The Cooper Union:MAILTO:webmaster@cooper.edu
DTSTART; TZID=America/New_York:20171213T140000
DTEND; TZID=America/New_York:20171213T153000
SUMMARY:CYBERNETICS: state of the art
DESCRIPTION:Liss C. Werner will present her work in a lecture open to current students, faculty, and staff.&nbsp;
END:VEVENT
END:VCALENDAR
