BEGIN:VCALENDAR
VERSION:2.0
PRODID:-//hacksw/handcal//NONSGML v1.0//EN
BEGIN:VEVENT
UID:webmaster@cooper.edu
DTSTAMP; TZID=America/New_York:20171114T190000
ORGANIZER;CN=The Cooper Union:MAILTO:webmaster@cooper.edu
DTSTART; TZID=America/New_York:20171114T190000
DTEND; TZID=America/New_York:20171114T200000
SUMMARY:Intra-Disciplinary Seminar Public Lecture: An-My Lê
DESCRIPTION:The photographer&nbsp;gives a free, public lecture
END:VEVENT
END:VCALENDAR
