BEGIN:VCALENDAR
VERSION:2.0
PRODID:-//hacksw/handcal//NONSGML v1.0//EN
BEGIN:VEVENT
UID:webmaster@cooper.edu
DTSTAMP; TZID=America/New_York:20171207T183000
ORGANIZER;CN=The Cooper Union:MAILTO:webmaster@cooper.edu
DTSTART; TZID=America/New_York:20171207T183000
DTEND; TZID=America/New_York:20171207T200000
SUMMARY:A Free, Public Lecture by Artist Eileen Quinlan
DESCRIPTION:The Fall 2017 Henry Wolf Chair in Photography Lecture will be delivered by Eileen Quinlan, whose experimental work with photography straddles multiple formats.
END:VEVENT
END:VCALENDAR
