BEGIN:VCALENDAR
VERSION:2.0
PRODID:-//hacksw/handcal//NONSGML v1.0//EN
BEGIN:VEVENT
UID:webmaster@cooper.edu
DTSTAMP; TZID=America/New_York:20171116T183000
ORGANIZER;CN=The Cooper Union:MAILTO:webmaster@cooper.edu
DTSTART; TZID=America/New_York:20171116T183000
DTEND; TZID=America/New_York:20171116T213000
SUMMARY:Screening | The Making of an Avant-Garde
DESCRIPTION:A screening, panel discussion and exhibition reception for Professor Diana Agrest's film subtitled, "The Institute for Architecture and Urban Studies 1967-1984"
END:VEVENT
END:VCALENDAR
