BEGIN:VCALENDAR
VERSION:2.0
PRODID:-//hacksw/handcal//NONSGML v1.0//EN
BEGIN:VEVENT
UID:webmaster@cooper.edu
DTSTAMP; TZID=America/New_York:20171031T190000
ORGANIZER;CN=The Cooper Union:MAILTO:webmaster@cooper.edu
DTSTART; TZID=America/New_York:20171031T190000
DTEND; TZID=America/New_York:20171031T200000
SUMMARY:Intra-Disciplinary Seminar Public Lecture: Tao DuFour AR'02
DESCRIPTION:The architect and Cooper&nbsp;graduate gives a free, public lecture
END:VEVENT
END:VCALENDAR
