BEGIN:VCALENDAR
VERSION:2.0
PRODID:-//hacksw/handcal//NONSGML v1.0//EN
BEGIN:VEVENT
UID:webmaster@cooper.edu
DTSTAMP; TZID=America/New_York:20171023T171500
ORGANIZER;CN=The Cooper Union:MAILTO:webmaster@cooper.edu
DTSTART; TZID=America/New_York:20171023T171500
DTEND; TZID=America/New_York:20171023T181500
SUMMARY:a1 architects: Size is not fate, size is choice
DESCRIPTION:Lena Kremenova and David Mastalka will present the work of their firm, a1 architects.&nbsp;
END:VEVENT
END:VCALENDAR
