BEGIN:VCALENDAR
VERSION:2.0
PRODID:-//hacksw/handcal//NONSGML v1.0//EN
BEGIN:VEVENT
UID:webmaster@cooper.edu
DTSTAMP; TZID=America/New_York:20171017T183000
ORGANIZER;CN=The Cooper Union:MAILTO:webmaster@cooper.edu
DTSTART; TZID=America/New_York:20171017T183000
DTEND; TZID=America/New_York:20171017T203000
SUMMARY:Gallery Round Table / Opening Reception: Architectural Tropes Across Scales and Geographies
DESCRIPTION:A conversation with Rania Ghosn, El Hadi Jazairy, Maria Perbellini, Franco Purini and Dean Nader Tehrani, moderated by Felipe Correa.
END:VEVENT
END:VCALENDAR
