BEGIN:VCALENDAR
VERSION:2.0
PRODID:-//hacksw/handcal//NONSGML v1.0//EN
BEGIN:VEVENT
UID:webmaster@cooper.edu
DTSTAMP; TZID=America/New_York:20171017T140100
ORGANIZER;CN=The Cooper Union:MAILTO:webmaster@cooper.edu
DTSTART; TZID=America/New_York:20171017T140100
DTEND; TZID=America/New_York:20171202T190000
SUMMARY:Franco Purini: Selected Works
DESCRIPTION:An exhibition of the work of Italian Architect, writer and professor, Franco Purini.
END:VEVENT
END:VCALENDAR
