BEGIN:VCALENDAR
VERSION:2.0
PRODID:-//hacksw/handcal//NONSGML v1.0//EN
BEGIN:VEVENT
UID:webmaster@cooper.edu
DTSTAMP; TZID=America/New_York:20171102T180000
ORGANIZER;CN=The Cooper Union:MAILTO:webmaster@cooper.edu
DTSTART; TZID=America/New_York:20171102T180000
DTEND; TZID=America/New_York:20171102T200000
SUMMARY:Visiting Lecture | George Legendre: Lost in Translation
DESCRIPTION:George Legendre will lecture on his work in room 315F.&nbsp;
END:VEVENT
END:VCALENDAR
