BEGIN:VCALENDAR
VERSION:2.0
PRODID:-//hacksw/handcal//NONSGML v1.0//EN
BEGIN:VEVENT
UID:webmaster@cooper.edu
DTSTAMP; TZID=America/New_York:20171027T183000
ORGANIZER;CN=The Cooper Union:MAILTO:webmaster@cooper.edu
DTSTART; TZID=America/New_York:20171027T183000
DTEND; TZID=America/New_York:20171027T200000
SUMMARY:Student Lecture Series: Luis Callejas
DESCRIPTION:Luis Callejas will present recent work and persistent inquiries between the object and vast territories.
END:VEVENT
END:VCALENDAR
