BEGIN:VCALENDAR
VERSION:2.0
PRODID:-//hacksw/handcal//NONSGML v1.0//EN
BEGIN:VEVENT
UID:webmaster@cooper.edu
DTSTAMP; TZID=America/New_York:20171017T190000
ORGANIZER;CN=The Cooper Union:MAILTO:webmaster@cooper.edu
DTSTART; TZID=America/New_York:20171017T190000
DTEND; TZID=America/New_York:20171017T200000
SUMMARY:Intra-Disciplinary Seminar Public Lecture: Nana Adusei-Poku
DESCRIPTION:The University of the Arts, Zurich&nbsp;delivers a free lecture
END:VEVENT
END:VCALENDAR
