BEGIN:VCALENDAR
VERSION:2.0
PRODID:-//hacksw/handcal//NONSGML v1.0//EN
BEGIN:VEVENT
UID:webmaster@cooper.edu
DTSTAMP; TZID=America/New_York:20171010T190000
ORGANIZER;CN=The Cooper Union:MAILTO:webmaster@cooper.edu
DTSTART; TZID=America/New_York:20171010T190000
DTEND; TZID=America/New_York:20171010T200000
SUMMARY:Intra-Disciplinary Seminar Public Lecture Series: Jordan Scott 
DESCRIPTION:The author delivers a free lecture, "Lanterns at Guantánamo," about his visit to the detention center there
END:VEVENT
END:VCALENDAR
