BEGIN:VCALENDAR
VERSION:2.0
PRODID:-//hacksw/handcal//NONSGML v1.0//EN
BEGIN:VEVENT
UID:webmaster@cooper.edu
DTSTAMP; TZID=America/New_York:20171017T190000
ORGANIZER;CN=The Cooper Union:MAILTO:webmaster@cooper.edu
DTSTART; TZID=America/New_York:20171017T190000
DTEND; TZID=America/New_York:20171017T203000
SUMMARY:Cornerstones of Democracy: From Domination to Partnership
DESCRIPTION:The Center for Partnership Studies presents a a free, public conversation that will describe what the four cornerstones of family, gender, economics and narratives can look like when grounded in the values of Partnership
END:VEVENT
END:VCALENDAR
