BEGIN:VCALENDAR
VERSION:2.0
PRODID:-//hacksw/handcal//NONSGML v1.0//EN
BEGIN:VEVENT
UID:webmaster@cooper.edu
DTSTAMP; TZID=America/New_York:20171010T120000
ORGANIZER;CN=The Cooper Union:MAILTO:webmaster@cooper.edu
DTSTART; TZID=America/New_York:20171010T120000
DTEND; TZID=America/New_York:20171010T140000
SUMMARY:CU @ Lunch Lecture | Gia Mainiero, AR '06
DESCRIPTION:Gia Mainiero, AR '06 will present on her work at Dattner Architects in Room 315F.&nbsp;
END:VEVENT
END:VCALENDAR
