BEGIN:VCALENDAR
VERSION:2.0
PRODID:-//hacksw/handcal//NONSGML v1.0//EN
BEGIN:VEVENT
UID:webmaster@cooper.edu
DTSTAMP; TZID=America/New_York:20171024T120000
ORGANIZER;CN=The Cooper Union:MAILTO:webmaster@cooper.edu
DTSTART; TZID=America/New_York:20171024T120000
DTEND; TZID=America/New_York:20171024T140000
SUMMARY:Lunchtime Lecture | Reiser + Umemoto, RUR: Projects and Their Consequences
DESCRIPTION:Jesse Reiser&nbsp; (AR '81) and Nanako Umemoto (AR '83) will present RUR's work in room 315F.
END:VEVENT
END:VCALENDAR
