BEGIN:VCALENDAR
VERSION:2.0
PRODID:-//hacksw/handcal//NONSGML v1.0//EN
BEGIN:VEVENT
UID:webmaster@cooper.edu
DTSTAMP; TZID=America/New_York:20170926T180000
ORGANIZER;CN=The Cooper Union:MAILTO:webmaster@cooper.edu
DTSTART; TZID=America/New_York:20170926T180000
DTEND; TZID=America/New_York:20170926T203000
SUMMARY:Honoring the Life of Adrian Jovanovic
DESCRIPTION:A memorial will be held in the Great Hall for alumnus (BSE'89) and former trustee of The Cooper Union
END:VEVENT
END:VCALENDAR
