BEGIN:VCALENDAR
VERSION:2.0
PRODID:-//hacksw/handcal//NONSGML v1.0//EN
BEGIN:VEVENT
UID:webmaster@cooper.edu
DTSTAMP; TZID=America/New_York:20171113T183000
ORGANIZER;CN=The Cooper Union:MAILTO:webmaster@cooper.edu
DTSTART; TZID=America/New_York:20171113T183000
DTEND; TZID=America/New_York:20171113T203000
SUMMARY:Rustic Bride Mun: Wm. H. Page’s Extraordinary Technicolor Typography
DESCRIPTION:A free, public lecture on William H. Page's extraordinary 19th century color typography and the 21st century letterpress and wood type resurgence
END:VEVENT
END:VCALENDAR
